BEGIN:VCALENDAR
VERSION:2.0
PRODID:-//Union Baptist Church - ECPv6.15.20//NONSGML v1.0//EN
CALSCALE:GREGORIAN
METHOD:PUBLISH
X-WR-CALNAME:Union Baptist Church
X-ORIGINAL-URL:https://www.unionbaptistwp.org
X-WR-CALDESC:Events for Union Baptist Church
REFRESH-INTERVAL;VALUE=DURATION:PT1H
X-Robots-Tag:noindex
X-PUBLISHED-TTL:PT1H
BEGIN:VTIMEZONE
TZID:UTC
BEGIN:STANDARD
TZOFFSETFROM:+0000
TZOFFSETTO:+0000
TZNAME:UTC
DTSTART:20240101T000000
END:STANDARD
END:VTIMEZONE
BEGIN:VEVENT
DTSTART;TZID=UTC:20250624T170000
DTEND;TZID=UTC:20250624T190000
DTSTAMP:20260424T213242
CREATED:20250623T235935Z
LAST-MODIFIED:20250708T021456Z
UID:3059-1750784400-1750791600@www.unionbaptistwp.org
SUMMARY:Union Food For Life
DESCRIPTION:Feeding Westchester delivers nutritious food to communities across Westchester County\, reaching neighbors where the need is greatest.
URL:https://www.unionbaptistwp.org/event/union-food-for-life/
LOCATION:Deacon Grover Jones\, Sr. Fellowship Hall\, 31 Manhattan Avenue\, White Plains\, NY\, 10607\, United States
ATTACH;FMTTYPE=image/png:https://www.unionbaptistwp.org/wp-content/uploads/2025/06/69053255_10156628950373108_2165714263753097216_n.png
END:VEVENT
BEGIN:VEVENT
DTSTART;TZID=UTC:20260111T100000
DTEND;TZID=UTC:20260111T120000
DTSTAMP:20260424T213242
CREATED:20250509T154050Z
LAST-MODIFIED:20260108T011436Z
UID:1487-1768125600-1768132800@www.unionbaptistwp.org
SUMMARY:Worship Service
DESCRIPTION:Worship with the UBC Family each and every Sunday at 10 AM EST\, in person or online.
URL:https://www.unionbaptistwp.org/event/worship-service/
LOCATION:UBC Worship Center Sanctuary
ATTACH;FMTTYPE=image/png:https://www.unionbaptistwp.org/wp-content/uploads/2025/05/UBC_Livestream_2026_REV1.png
END:VEVENT
BEGIN:VEVENT
DTSTART;TZID=UTC:20250624T170000
DTEND;TZID=UTC:20250624T190000
DTSTAMP:20260424T213242
CREATED:20250623T235935Z
LAST-MODIFIED:20250708T021456Z
UID:3059-1750784400-1750791600@www.unionbaptistwp.org
SUMMARY:Union Food For Life
DESCRIPTION:Feeding Westchester delivers nutritious food to communities across Westchester County\, reaching neighbors where the need is greatest.
URL:https://www.unionbaptistwp.org/event/union-food-for-life/
LOCATION:Deacon Grover Jones\, Sr. Fellowship Hall\, 31 Manhattan Avenue\, White Plains\, NY\, 10607\, United States
ATTACH;FMTTYPE=image/png:https://www.unionbaptistwp.org/wp-content/uploads/2025/06/69053255_10156628950373108_2165714263753097216_n.png
END:VEVENT
BEGIN:VEVENT
DTSTART;TZID=UTC:20250709T183000
DTEND;TZID=UTC:20250709T203000
DTSTAMP:20260424T213242
CREATED:20250623T234432Z
LAST-MODIFIED:20250630T213222Z
UID:3051-1752085800-1752093000@www.unionbaptistwp.org
SUMMARY:Vacation Bible School
DESCRIPTION:Our Christian Education Ministry is proud to present VBS  classes for all ages under the theme\, “The Jesus Connection: Downloads From Heaven.” \nMark your calendars to join us for fellowship and a deep dive into the Word of God. \nNo registration necessary\, come ready to worship!
URL:https://www.unionbaptistwp.org/event/children-and-youth-vacation-bible-school/
LOCATION:UBC Worship Center Sanctuary
ATTACH;FMTTYPE=image/png:https://www.unionbaptistwp.org/wp-content/uploads/2025/06/VBS_2025_063025.png
END:VEVENT
BEGIN:VEVENT
DTSTART;TZID=UTC:20250710T183000
DTEND;TZID=UTC:20250710T203000
DTSTAMP:20260424T213242
CREATED:20250623T234701Z
LAST-MODIFIED:20250630T213057Z
UID:3054-1752172200-1752179400@www.unionbaptistwp.org
SUMMARY:Vacation Bible School
DESCRIPTION:Our Christian Education Ministry is proud to present VBS  classes for all ages under the theme\, “The Jesus Connection: Downloads From Heaven.” \nMark your calendars to join us for fellowship and a deep dive into the Word of God. \nNo registration necessary\, come ready to worship!
URL:https://www.unionbaptistwp.org/event/children-and-youth-vacation-bible-school-2/
LOCATION:UBC Worship Center Sanctuary
ATTACH;FMTTYPE=image/png:https://www.unionbaptistwp.org/wp-content/uploads/2025/06/VBS_2025_063025.png
END:VEVENT
BEGIN:VEVENT
DTSTART;TZID=UTC:20250711T183000
DTEND;TZID=UTC:20250711T203000
DTSTAMP:20260424T213242
CREATED:20250623T234907Z
LAST-MODIFIED:20250630T212954Z
UID:3055-1752258600-1752265800@www.unionbaptistwp.org
SUMMARY:Vacation Bible School
DESCRIPTION:Our Christian Education Ministry is proud to present VBS  classes for all ages under the theme\, “The Jesus Connection: Downloads From Heaven.” \nMark your calendars to join us for fellowship and a deep dive into the Word of God. \nNo registration necessary\, come ready to worship!
URL:https://www.unionbaptistwp.org/event/children-and-youth-vacation-bible-school-3/
LOCATION:UBC Worship Center Sanctuary
ATTACH;FMTTYPE=image/png:https://www.unionbaptistwp.org/wp-content/uploads/2025/06/VBS_2025_063025.png
END:VEVENT
BEGIN:VEVENT
DTSTART;TZID=UTC:20260111T100000
DTEND;TZID=UTC:20260111T120000
DTSTAMP:20260424T213242
CREATED:20250509T154050Z
LAST-MODIFIED:20260108T011436Z
UID:1487-1768125600-1768132800@www.unionbaptistwp.org
SUMMARY:Worship Service
DESCRIPTION:Worship with the UBC Family each and every Sunday at 10 AM EST\, in person or online.
URL:https://www.unionbaptistwp.org/event/worship-service/
LOCATION:UBC Worship Center Sanctuary
ATTACH;FMTTYPE=image/png:https://www.unionbaptistwp.org/wp-content/uploads/2025/05/UBC_Livestream_2026_REV1.png
END:VEVENT
BEGIN:VEVENT
DTSTART;TZID=UTC:20250713T100000
DTEND;TZID=UTC:20250713T100000
DTSTAMP:20260424T213242
CREATED:20250630T211906Z
LAST-MODIFIED:20250717T214941Z
UID:3214-1752400800-1752400800@www.unionbaptistwp.org
SUMMARY:Annual Ushers/Greeters Anniversary
DESCRIPTION:
URL:https://www.unionbaptistwp.org/event/annual-ushers-greeters-anniversary/
LOCATION:UBC Worship Center Sanctuary
ATTACH;FMTTYPE=image/png:https://www.unionbaptistwp.org/wp-content/uploads/2025/05/ubc-default-event.png
END:VEVENT
BEGIN:VEVENT
DTSTART;TZID=UTC:20250624T170000
DTEND;TZID=UTC:20250624T190000
DTSTAMP:20260424T213242
CREATED:20250623T235935Z
LAST-MODIFIED:20250708T021456Z
UID:3059-1750784400-1750791600@www.unionbaptistwp.org
SUMMARY:Union Food For Life
DESCRIPTION:Feeding Westchester delivers nutritious food to communities across Westchester County\, reaching neighbors where the need is greatest.
URL:https://www.unionbaptistwp.org/event/union-food-for-life/
LOCATION:Deacon Grover Jones\, Sr. Fellowship Hall\, 31 Manhattan Avenue\, White Plains\, NY\, 10607\, United States
ATTACH;FMTTYPE=image/png:https://www.unionbaptistwp.org/wp-content/uploads/2025/06/69053255_10156628950373108_2165714263753097216_n.png
END:VEVENT
BEGIN:VEVENT
DTSTART;TZID=UTC:20260111T100000
DTEND;TZID=UTC:20260111T120000
DTSTAMP:20260424T213242
CREATED:20250509T154050Z
LAST-MODIFIED:20260108T011436Z
UID:1487-1768125600-1768132800@www.unionbaptistwp.org
SUMMARY:Worship Service
DESCRIPTION:Worship with the UBC Family each and every Sunday at 10 AM EST\, in person or online.
URL:https://www.unionbaptistwp.org/event/worship-service/
LOCATION:UBC Worship Center Sanctuary
ATTACH;FMTTYPE=image/png:https://www.unionbaptistwp.org/wp-content/uploads/2025/05/UBC_Livestream_2026_REV1.png
END:VEVENT
BEGIN:VEVENT
DTSTART;TZID=UTC:20250624T170000
DTEND;TZID=UTC:20250624T190000
DTSTAMP:20260424T213242
CREATED:20250623T235935Z
LAST-MODIFIED:20250708T021456Z
UID:3059-1750784400-1750791600@www.unionbaptistwp.org
SUMMARY:Union Food For Life
DESCRIPTION:Feeding Westchester delivers nutritious food to communities across Westchester County\, reaching neighbors where the need is greatest.
URL:https://www.unionbaptistwp.org/event/union-food-for-life/
LOCATION:Deacon Grover Jones\, Sr. Fellowship Hall\, 31 Manhattan Avenue\, White Plains\, NY\, 10607\, United States
ATTACH;FMTTYPE=image/png:https://www.unionbaptistwp.org/wp-content/uploads/2025/06/69053255_10156628950373108_2165714263753097216_n.png
END:VEVENT
BEGIN:VEVENT
DTSTART;TZID=UTC:20260111T100000
DTEND;TZID=UTC:20260111T120000
DTSTAMP:20260424T213242
CREATED:20250509T154050Z
LAST-MODIFIED:20260108T011436Z
UID:1487-1768125600-1768132800@www.unionbaptistwp.org
SUMMARY:Worship Service
DESCRIPTION:Worship with the UBC Family each and every Sunday at 10 AM EST\, in person or online.
URL:https://www.unionbaptistwp.org/event/worship-service/
LOCATION:UBC Worship Center Sanctuary
ATTACH;FMTTYPE=image/png:https://www.unionbaptistwp.org/wp-content/uploads/2025/05/UBC_Livestream_2026_REV1.png
END:VEVENT
BEGIN:VEVENT
DTSTART;TZID=UTC:20250624T170000
DTEND;TZID=UTC:20250624T190000
DTSTAMP:20260424T213242
CREATED:20250623T235935Z
LAST-MODIFIED:20250708T021456Z
UID:3059-1750784400-1750791600@www.unionbaptistwp.org
SUMMARY:Union Food For Life
DESCRIPTION:Feeding Westchester delivers nutritious food to communities across Westchester County\, reaching neighbors where the need is greatest.
URL:https://www.unionbaptistwp.org/event/union-food-for-life/
LOCATION:Deacon Grover Jones\, Sr. Fellowship Hall\, 31 Manhattan Avenue\, White Plains\, NY\, 10607\, United States
ATTACH;FMTTYPE=image/png:https://www.unionbaptistwp.org/wp-content/uploads/2025/06/69053255_10156628950373108_2165714263753097216_n.png
END:VEVENT
END:VCALENDAR