BEGIN:VCALENDAR
VERSION:2.0
PRODID:-//Union Baptist Church - ECPv6.15.20//NONSGML v1.0//EN
CALSCALE:GREGORIAN
METHOD:PUBLISH
X-ORIGINAL-URL:https://www.unionbaptistwp.org
X-WR-CALDESC:Events for Union Baptist Church
REFRESH-INTERVAL;VALUE=DURATION:PT1H
X-Robots-Tag:noindex
X-PUBLISHED-TTL:PT1H
BEGIN:VTIMEZONE
TZID:UTC
BEGIN:STANDARD
TZOFFSETFROM:+0000
TZOFFSETTO:+0000
TZNAME:UTC
DTSTART:20240101T000000
END:STANDARD
END:VTIMEZONE
BEGIN:VEVENT
DTSTART;TZID=UTC:20250624T170000
DTEND;TZID=UTC:20250624T190000
DTSTAMP:20260425T010625
CREATED:20250623T235935Z
LAST-MODIFIED:20250708T021456Z
UID:3059-1750784400-1750791600@www.unionbaptistwp.org
SUMMARY:Union Food For Life
DESCRIPTION:Feeding Westchester delivers nutritious food to communities across Westchester County\, reaching neighbors where the need is greatest.
URL:https://www.unionbaptistwp.org/event/union-food-for-life/
LOCATION:Deacon Grover Jones\, Sr. Fellowship Hall\, 31 Manhattan Avenue\, White Plains\, NY\, 10607\, United States
ATTACH;FMTTYPE=image/png:https://www.unionbaptistwp.org/wp-content/uploads/2025/06/69053255_10156628950373108_2165714263753097216_n.png
END:VEVENT
BEGIN:VEVENT
DTSTART;TZID=UTC:20260111T100000
DTEND;TZID=UTC:20260111T120000
DTSTAMP:20260425T010625
CREATED:20250509T154050Z
LAST-MODIFIED:20260108T011436Z
UID:1487-1768125600-1768132800@www.unionbaptistwp.org
SUMMARY:Worship Service
DESCRIPTION:Worship with the UBC Family each and every Sunday at 10 AM EST\, in person or online.
URL:https://www.unionbaptistwp.org/event/worship-service/
LOCATION:UBC Worship Center Sanctuary
ATTACH;FMTTYPE=image/png:https://www.unionbaptistwp.org/wp-content/uploads/2025/05/UBC_Livestream_2026_REV1.png
END:VEVENT
BEGIN:VEVENT
DTSTART;TZID=UTC:20250907T083000
DTEND;TZID=UTC:20250907T093000
DTSTAMP:20260425T010625
CREATED:20250814T195103Z
LAST-MODIFIED:20250814T195250Z
UID:3540-1757233800-1757237400@www.unionbaptistwp.org
SUMMARY:Pastor Williams' Bible Study
DESCRIPTION:Theme: Building Blocks of Spiritual Formation
URL:https://www.unionbaptistwp.org/event/pastor-williams-bible-study/
LOCATION:UBC Worship Center Sanctuary
ATTACH;FMTTYPE=image/png:https://www.unionbaptistwp.org/wp-content/uploads/2025/05/ubc-default-event.png
END:VEVENT
BEGIN:VEVENT
DTSTART;TZID=UTC:20250907T103000
DTEND;TZID=UTC:20250907T120000
DTSTAMP:20260425T010625
CREATED:20250814T195623Z
LAST-MODIFIED:20250814T195623Z
UID:3545-1757241000-1757246400@www.unionbaptistwp.org
SUMMARY:Children's Church
DESCRIPTION:Theme: The Jesus Connection\, Part II: Ephesians 1:3
URL:https://www.unionbaptistwp.org/event/childrens-church/
LOCATION:Deacon Grover Jones\, Sr. Fellowship Hall\, 31 Manhattan Avenue\, White Plains\, NY\, 10607\, United States
ATTACH;FMTTYPE=image/png:https://www.unionbaptistwp.org/wp-content/uploads/2025/05/ubc-default-event.png
END:VEVENT
BEGIN:VEVENT
DTSTART;TZID=UTC:20250624T170000
DTEND;TZID=UTC:20250624T190000
DTSTAMP:20260425T010625
CREATED:20250623T235935Z
LAST-MODIFIED:20250708T021456Z
UID:3059-1750784400-1750791600@www.unionbaptistwp.org
SUMMARY:Union Food For Life
DESCRIPTION:Feeding Westchester delivers nutritious food to communities across Westchester County\, reaching neighbors where the need is greatest.
URL:https://www.unionbaptistwp.org/event/union-food-for-life/
LOCATION:Deacon Grover Jones\, Sr. Fellowship Hall\, 31 Manhattan Avenue\, White Plains\, NY\, 10607\, United States
ATTACH;FMTTYPE=image/png:https://www.unionbaptistwp.org/wp-content/uploads/2025/06/69053255_10156628950373108_2165714263753097216_n.png
END:VEVENT
BEGIN:VEVENT
DTSTART;TZID=UTC:20250910T113000
DTEND;TZID=UTC:20250910T123000
DTSTAMP:20260425T010625
CREATED:20250814T195840Z
LAST-MODIFIED:20250911T161022Z
UID:3548-1757503800-1757507400@www.unionbaptistwp.org
SUMMARY:Senior Bible Study
DESCRIPTION:
URL:https://www.unionbaptistwp.org/event/senior-bible-study/
LOCATION:Worship Center Narthex\, 31 Manhattan Avenue\, White Plains\, NY\, 10607\, United States
ATTACH;FMTTYPE=image/png:https://www.unionbaptistwp.org/wp-content/uploads/2025/05/ubc-default-event.png
END:VEVENT
BEGIN:VEVENT
DTSTART;TZID=UTC:20250910T183000
DTEND;TZID=UTC:20250910T193000
DTSTAMP:20260425T010625
CREATED:20250814T200045Z
LAST-MODIFIED:20250814T200045Z
UID:3551-1757529000-1757532600@www.unionbaptistwp.org
SUMMARY:Men's Bible Study
DESCRIPTION:
URL:https://www.unionbaptistwp.org/event/mens-bible-study/
LOCATION:Worship Center Narthex\, 31 Manhattan Avenue\, White Plains\, NY\, 10607\, United States
ATTACH;FMTTYPE=image/png:https://www.unionbaptistwp.org/wp-content/uploads/2025/05/ubc-default-event.png
END:VEVENT
BEGIN:VEVENT
DTSTART;TZID=UTC:20250910T183000
DTEND;TZID=UTC:20250910T193000
DTSTAMP:20260425T010625
CREATED:20250814T200331Z
LAST-MODIFIED:20250814T200331Z
UID:3554-1757529000-1757532600@www.unionbaptistwp.org
SUMMARY:Women's Bible Study
DESCRIPTION:
URL:https://www.unionbaptistwp.org/event/womens-bible-study/
LOCATION:UBC Worship Center Sanctuary
ATTACH;FMTTYPE=image/png:https://www.unionbaptistwp.org/wp-content/uploads/2025/05/ubc-default-event.png
END:VEVENT
BEGIN:VEVENT
DTSTART;TZID=UTC:20260111T100000
DTEND;TZID=UTC:20260111T120000
DTSTAMP:20260425T010625
CREATED:20250509T154050Z
LAST-MODIFIED:20260108T011436Z
UID:1487-1768125600-1768132800@www.unionbaptistwp.org
SUMMARY:Worship Service
DESCRIPTION:Worship with the UBC Family each and every Sunday at 10 AM EST\, in person or online.
URL:https://www.unionbaptistwp.org/event/worship-service/
LOCATION:UBC Worship Center Sanctuary
ATTACH;FMTTYPE=image/png:https://www.unionbaptistwp.org/wp-content/uploads/2025/05/UBC_Livestream_2026_REV1.png
END:VEVENT
BEGIN:VEVENT
DTSTART;TZID=UTC:20250907T083000
DTEND;TZID=UTC:20250907T093000
DTSTAMP:20260425T010625
CREATED:20250814T195103Z
LAST-MODIFIED:20250814T195250Z
UID:3540-1757233800-1757237400@www.unionbaptistwp.org
SUMMARY:Pastor Williams' Bible Study
DESCRIPTION:Theme: Building Blocks of Spiritual Formation
URL:https://www.unionbaptistwp.org/event/pastor-williams-bible-study/
LOCATION:UBC Worship Center Sanctuary
ATTACH;FMTTYPE=image/png:https://www.unionbaptistwp.org/wp-content/uploads/2025/05/ubc-default-event.png
END:VEVENT
BEGIN:VEVENT
DTSTART;TZID=UTC:20250907T103000
DTEND;TZID=UTC:20250907T120000
DTSTAMP:20260425T010625
CREATED:20250814T195623Z
LAST-MODIFIED:20250814T195623Z
UID:3545-1757241000-1757246400@www.unionbaptistwp.org
SUMMARY:Children's Church
DESCRIPTION:Theme: The Jesus Connection\, Part II: Ephesians 1:3
URL:https://www.unionbaptistwp.org/event/childrens-church/
LOCATION:Deacon Grover Jones\, Sr. Fellowship Hall\, 31 Manhattan Avenue\, White Plains\, NY\, 10607\, United States
ATTACH;FMTTYPE=image/png:https://www.unionbaptistwp.org/wp-content/uploads/2025/05/ubc-default-event.png
END:VEVENT
BEGIN:VEVENT
DTSTART;TZID=UTC:20250624T170000
DTEND;TZID=UTC:20250624T190000
DTSTAMP:20260425T010625
CREATED:20250623T235935Z
LAST-MODIFIED:20250708T021456Z
UID:3059-1750784400-1750791600@www.unionbaptistwp.org
SUMMARY:Union Food For Life
DESCRIPTION:Feeding Westchester delivers nutritious food to communities across Westchester County\, reaching neighbors where the need is greatest.
URL:https://www.unionbaptistwp.org/event/union-food-for-life/
LOCATION:Deacon Grover Jones\, Sr. Fellowship Hall\, 31 Manhattan Avenue\, White Plains\, NY\, 10607\, United States
ATTACH;FMTTYPE=image/png:https://www.unionbaptistwp.org/wp-content/uploads/2025/06/69053255_10156628950373108_2165714263753097216_n.png
END:VEVENT
BEGIN:VEVENT
DTSTART;TZID=UTC:20250910T113000
DTEND;TZID=UTC:20250910T123000
DTSTAMP:20260425T010625
CREATED:20250814T195840Z
LAST-MODIFIED:20250911T161022Z
UID:3548-1757503800-1757507400@www.unionbaptistwp.org
SUMMARY:Senior Bible Study
DESCRIPTION:
URL:https://www.unionbaptistwp.org/event/senior-bible-study/
LOCATION:Worship Center Narthex\, 31 Manhattan Avenue\, White Plains\, NY\, 10607\, United States
ATTACH;FMTTYPE=image/png:https://www.unionbaptistwp.org/wp-content/uploads/2025/05/ubc-default-event.png
END:VEVENT
BEGIN:VEVENT
DTSTART;TZID=UTC:20250910T183000
DTEND;TZID=UTC:20250910T193000
DTSTAMP:20260425T010625
CREATED:20250814T200045Z
LAST-MODIFIED:20250814T200045Z
UID:3551-1757529000-1757532600@www.unionbaptistwp.org
SUMMARY:Men's Bible Study
DESCRIPTION:
URL:https://www.unionbaptistwp.org/event/mens-bible-study/
LOCATION:Worship Center Narthex\, 31 Manhattan Avenue\, White Plains\, NY\, 10607\, United States
ATTACH;FMTTYPE=image/png:https://www.unionbaptistwp.org/wp-content/uploads/2025/05/ubc-default-event.png
END:VEVENT
BEGIN:VEVENT
DTSTART;TZID=UTC:20250910T183000
DTEND;TZID=UTC:20250910T193000
DTSTAMP:20260425T010625
CREATED:20250814T200331Z
LAST-MODIFIED:20250814T200331Z
UID:3554-1757529000-1757532600@www.unionbaptistwp.org
SUMMARY:Women's Bible Study
DESCRIPTION:
URL:https://www.unionbaptistwp.org/event/womens-bible-study/
LOCATION:UBC Worship Center Sanctuary
ATTACH;FMTTYPE=image/png:https://www.unionbaptistwp.org/wp-content/uploads/2025/05/ubc-default-event.png
END:VEVENT
BEGIN:VEVENT
DTSTART;TZID=UTC:20250920T110000
DTEND;TZID=UTC:20250920T130000
DTSTAMP:20260425T010625
CREATED:20250723T175036Z
LAST-MODIFIED:20250903T183148Z
UID:3497-1758366000-1758373200@www.unionbaptistwp.org
SUMMARY:GriefShare: Loss of a Spouse Seminar
DESCRIPTION:Need help dealing with grief? GriefShare Support Groups are here for you. The Loss of a Spouse Seminar is designed for widowed individuals seeking support. 
URL:https://www.unionbaptistwp.org/event/griefshare-loss-of-a-spouse-seminar/
LOCATION:UBC Worship Center Sanctuary
ATTACH;FMTTYPE=image/jpeg:https://www.unionbaptistwp.org/wp-content/uploads/2025/07/GriefShare.jpg
END:VEVENT
BEGIN:VEVENT
DTSTART;VALUE=DATE:20250921
DTEND;VALUE=DATE:20250922
DTSTAMP:20260425T010625
CREATED:20250702T185429Z
LAST-MODIFIED:20250903T181952Z
UID:3344-1758412800-1758499199@www.unionbaptistwp.org
SUMMARY:Annual Missions Day
DESCRIPTION:Theme: Faith in Action: Justice\, Empowerment\, and Compassion \nScripture: Isaiah 58:6-8 \nGuest Speaker: Sister Tiffany Hamilton
URL:https://www.unionbaptistwp.org/event/missions-annual-day/
LOCATION:UBC Worship Center Sanctuary
ATTACH;FMTTYPE=image/png:https://www.unionbaptistwp.org/wp-content/uploads/2025/05/ubc-default-event.png
END:VEVENT
BEGIN:VEVENT
DTSTART;TZID=UTC:20260111T100000
DTEND;TZID=UTC:20260111T120000
DTSTAMP:20260425T010625
CREATED:20250509T154050Z
LAST-MODIFIED:20260108T011436Z
UID:1487-1768125600-1768132800@www.unionbaptistwp.org
SUMMARY:Worship Service
DESCRIPTION:Worship with the UBC Family each and every Sunday at 10 AM EST\, in person or online.
URL:https://www.unionbaptistwp.org/event/worship-service/
LOCATION:UBC Worship Center Sanctuary
ATTACH;FMTTYPE=image/png:https://www.unionbaptistwp.org/wp-content/uploads/2025/05/UBC_Livestream_2026_REV1.png
END:VEVENT
BEGIN:VEVENT
DTSTART;VALUE=DATE:20250921
DTEND;VALUE=DATE:20250922
DTSTAMP:20260425T010625
CREATED:20250903T174835Z
LAST-MODIFIED:20250903T221245Z
UID:3567-1758412800-1758499199@www.unionbaptistwp.org
SUMMARY:UBGFCU Open House
DESCRIPTION:
URL:https://www.unionbaptistwp.org/event/ubgfcu-open-house/
LOCATION:UBC Worship Center Sanctuary
ATTACH;FMTTYPE=image/png:https://www.unionbaptistwp.org/wp-content/uploads/2025/09/UBGFCU_White-1.png
END:VEVENT
BEGIN:VEVENT
DTSTART;TZID=UTC:20250907T083000
DTEND;TZID=UTC:20250907T093000
DTSTAMP:20260425T010625
CREATED:20250814T195103Z
LAST-MODIFIED:20250814T195250Z
UID:3540-1757233800-1757237400@www.unionbaptistwp.org
SUMMARY:Pastor Williams' Bible Study
DESCRIPTION:Theme: Building Blocks of Spiritual Formation
URL:https://www.unionbaptistwp.org/event/pastor-williams-bible-study/
LOCATION:UBC Worship Center Sanctuary
ATTACH;FMTTYPE=image/png:https://www.unionbaptistwp.org/wp-content/uploads/2025/05/ubc-default-event.png
END:VEVENT
BEGIN:VEVENT
DTSTART;TZID=UTC:20250907T103000
DTEND;TZID=UTC:20250907T120000
DTSTAMP:20260425T010625
CREATED:20250814T195623Z
LAST-MODIFIED:20250814T195623Z
UID:3545-1757241000-1757246400@www.unionbaptistwp.org
SUMMARY:Children's Church
DESCRIPTION:Theme: The Jesus Connection\, Part II: Ephesians 1:3
URL:https://www.unionbaptistwp.org/event/childrens-church/
LOCATION:Deacon Grover Jones\, Sr. Fellowship Hall\, 31 Manhattan Avenue\, White Plains\, NY\, 10607\, United States
ATTACH;FMTTYPE=image/png:https://www.unionbaptistwp.org/wp-content/uploads/2025/05/ubc-default-event.png
END:VEVENT
BEGIN:VEVENT
DTSTART;TZID=UTC:20250624T170000
DTEND;TZID=UTC:20250624T190000
DTSTAMP:20260425T010625
CREATED:20250623T235935Z
LAST-MODIFIED:20250708T021456Z
UID:3059-1750784400-1750791600@www.unionbaptistwp.org
SUMMARY:Union Food For Life
DESCRIPTION:Feeding Westchester delivers nutritious food to communities across Westchester County\, reaching neighbors where the need is greatest.
URL:https://www.unionbaptistwp.org/event/union-food-for-life/
LOCATION:Deacon Grover Jones\, Sr. Fellowship Hall\, 31 Manhattan Avenue\, White Plains\, NY\, 10607\, United States
ATTACH;FMTTYPE=image/png:https://www.unionbaptistwp.org/wp-content/uploads/2025/06/69053255_10156628950373108_2165714263753097216_n.png
END:VEVENT
BEGIN:VEVENT
DTSTART;TZID=UTC:20250910T113000
DTEND;TZID=UTC:20250910T123000
DTSTAMP:20260425T010625
CREATED:20250814T195840Z
LAST-MODIFIED:20250911T161022Z
UID:3548-1757503800-1757507400@www.unionbaptistwp.org
SUMMARY:Senior Bible Study
DESCRIPTION:
URL:https://www.unionbaptistwp.org/event/senior-bible-study/
LOCATION:Worship Center Narthex\, 31 Manhattan Avenue\, White Plains\, NY\, 10607\, United States
ATTACH;FMTTYPE=image/png:https://www.unionbaptistwp.org/wp-content/uploads/2025/05/ubc-default-event.png
END:VEVENT
BEGIN:VEVENT
DTSTART;TZID=UTC:20250910T183000
DTEND;TZID=UTC:20250910T193000
DTSTAMP:20260425T010625
CREATED:20250814T200045Z
LAST-MODIFIED:20250814T200045Z
UID:3551-1757529000-1757532600@www.unionbaptistwp.org
SUMMARY:Men's Bible Study
DESCRIPTION:
URL:https://www.unionbaptistwp.org/event/mens-bible-study/
LOCATION:Worship Center Narthex\, 31 Manhattan Avenue\, White Plains\, NY\, 10607\, United States
ATTACH;FMTTYPE=image/png:https://www.unionbaptistwp.org/wp-content/uploads/2025/05/ubc-default-event.png
END:VEVENT
BEGIN:VEVENT
DTSTART;TZID=UTC:20250910T183000
DTEND;TZID=UTC:20250910T193000
DTSTAMP:20260425T010625
CREATED:20250814T200331Z
LAST-MODIFIED:20250814T200331Z
UID:3554-1757529000-1757532600@www.unionbaptistwp.org
SUMMARY:Women's Bible Study
DESCRIPTION:
URL:https://www.unionbaptistwp.org/event/womens-bible-study/
LOCATION:UBC Worship Center Sanctuary
ATTACH;FMTTYPE=image/png:https://www.unionbaptistwp.org/wp-content/uploads/2025/05/ubc-default-event.png
END:VEVENT
BEGIN:VEVENT
DTSTART;TZID=UTC:20260111T100000
DTEND;TZID=UTC:20260111T120000
DTSTAMP:20260425T010625
CREATED:20250509T154050Z
LAST-MODIFIED:20260108T011436Z
UID:1487-1768125600-1768132800@www.unionbaptistwp.org
SUMMARY:Worship Service
DESCRIPTION:Worship with the UBC Family each and every Sunday at 10 AM EST\, in person or online.
URL:https://www.unionbaptistwp.org/event/worship-service/
LOCATION:UBC Worship Center Sanctuary
ATTACH;FMTTYPE=image/png:https://www.unionbaptistwp.org/wp-content/uploads/2025/05/UBC_Livestream_2026_REV1.png
END:VEVENT
BEGIN:VEVENT
DTSTART;VALUE=DATE:20250928
DTEND;VALUE=DATE:20250929
DTSTAMP:20260425T010625
CREATED:20250903T174553Z
LAST-MODIFIED:20250911T162122Z
UID:3564-1759017600-1759103999@www.unionbaptistwp.org
SUMMARY:Pastor and People Together Since 1994
DESCRIPTION:Celebrating Reverend Williams’ 31st Pastoral Anniversary \nTheme: Renewed in Faith\, United in Purpose \nGuest Preacher: Reverend Dr. Damone P. Thomas\, Senior Pastor\, Metropolitan New Testament Missionary Baptist Church
URL:https://www.unionbaptistwp.org/event/pastor-and-people-together-since-1994/
LOCATION:UBC Worship Center Sanctuary
ATTACH;FMTTYPE=image/png:https://www.unionbaptistwp.org/wp-content/uploads/2025/09/VDW_30_Anniversary_WEB_REV2_090325.png
END:VEVENT
BEGIN:VEVENT
DTSTART;TZID=UTC:20250907T083000
DTEND;TZID=UTC:20250907T093000
DTSTAMP:20260425T010625
CREATED:20250814T195103Z
LAST-MODIFIED:20250814T195250Z
UID:3540-1757233800-1757237400@www.unionbaptistwp.org
SUMMARY:Pastor Williams' Bible Study
DESCRIPTION:Theme: Building Blocks of Spiritual Formation
URL:https://www.unionbaptistwp.org/event/pastor-williams-bible-study/
LOCATION:UBC Worship Center Sanctuary
ATTACH;FMTTYPE=image/png:https://www.unionbaptistwp.org/wp-content/uploads/2025/05/ubc-default-event.png
END:VEVENT
BEGIN:VEVENT
DTSTART;TZID=UTC:20250907T103000
DTEND;TZID=UTC:20250907T120000
DTSTAMP:20260425T010625
CREATED:20250814T195623Z
LAST-MODIFIED:20250814T195623Z
UID:3545-1757241000-1757246400@www.unionbaptistwp.org
SUMMARY:Children's Church
DESCRIPTION:Theme: The Jesus Connection\, Part II: Ephesians 1:3
URL:https://www.unionbaptistwp.org/event/childrens-church/
LOCATION:Deacon Grover Jones\, Sr. Fellowship Hall\, 31 Manhattan Avenue\, White Plains\, NY\, 10607\, United States
ATTACH;FMTTYPE=image/png:https://www.unionbaptistwp.org/wp-content/uploads/2025/05/ubc-default-event.png
END:VEVENT
BEGIN:VEVENT
DTSTART;TZID=UTC:20250624T170000
DTEND;TZID=UTC:20250624T190000
DTSTAMP:20260425T010625
CREATED:20250623T235935Z
LAST-MODIFIED:20250708T021456Z
UID:3059-1750784400-1750791600@www.unionbaptistwp.org
SUMMARY:Union Food For Life
DESCRIPTION:Feeding Westchester delivers nutritious food to communities across Westchester County\, reaching neighbors where the need is greatest.
URL:https://www.unionbaptistwp.org/event/union-food-for-life/
LOCATION:Deacon Grover Jones\, Sr. Fellowship Hall\, 31 Manhattan Avenue\, White Plains\, NY\, 10607\, United States
ATTACH;FMTTYPE=image/png:https://www.unionbaptistwp.org/wp-content/uploads/2025/06/69053255_10156628950373108_2165714263753097216_n.png
END:VEVENT
END:VCALENDAR