BEGIN:VCALENDAR
VERSION:2.0
PRODID:-//Union Baptist Church - ECPv6.15.20//NONSGML v1.0//EN
CALSCALE:GREGORIAN
METHOD:PUBLISH
X-ORIGINAL-URL:https://www.unionbaptistwp.org
X-WR-CALDESC:Events for Union Baptist Church
REFRESH-INTERVAL;VALUE=DURATION:PT1H
X-Robots-Tag:noindex
X-PUBLISHED-TTL:PT1H
BEGIN:VTIMEZONE
TZID:UTC
BEGIN:STANDARD
TZOFFSETFROM:+0000
TZOFFSETTO:+0000
TZNAME:UTC
DTSTART:20240101T000000
END:STANDARD
END:VTIMEZONE
BEGIN:VEVENT
DTSTART;TZID=UTC:20250624T170000
DTEND;TZID=UTC:20250624T190000
DTSTAMP:20260424T200240
CREATED:20250623T235935Z
LAST-MODIFIED:20250708T021456Z
UID:3059-1750784400-1750791600@www.unionbaptistwp.org
SUMMARY:Union Food For Life
DESCRIPTION:Feeding Westchester delivers nutritious food to communities across Westchester County\, reaching neighbors where the need is greatest.
URL:https://www.unionbaptistwp.org/event/union-food-for-life/
LOCATION:Deacon Grover Jones\, Sr. Fellowship Hall\, 31 Manhattan Avenue\, White Plains\, NY\, 10607\, United States
ATTACH;FMTTYPE=image/png:https://www.unionbaptistwp.org/wp-content/uploads/2025/06/69053255_10156628950373108_2165714263753097216_n.png
END:VEVENT
BEGIN:VEVENT
DTSTART;TZID=UTC:20251206T130000
DTEND;TZID=UTC:20251206T150000
DTSTAMP:20260424T200240
CREATED:20251111T031451Z
LAST-MODIFIED:20251111T031451Z
UID:3755-1765026000-1765033200@www.unionbaptistwp.org
SUMMARY:Chapeau Runway Extravaganza
DESCRIPTION:An afternoon of food\, fun\, and fellowship hosted by UBC’s Missions Ministry! \nHats will be modeled by the women of Union\, including hats worn by First Lady Dorothy Williams. \nInterested in modeling or have hats that you would like to donate? \nContact our Missions Ministry at 914.948.6439 \n  \nGuests are kindly asked to bring a donation of toiletries or gift cards for admission. \nAll proceeds received will be donated to My Sister’s Place – \na New York based organization that strives to end domestic violence and human trafficking.
URL:https://www.unionbaptistwp.org/event/chapeau-runway-extravaganza/
LOCATION:Deacon Grover Jones\, Sr. Fellowship Hall\, 31 Manhattan Avenue\, White Plains\, NY\, 10607\, United States
ATTACH;FMTTYPE=image/png:https://www.unionbaptistwp.org/wp-content/uploads/2025/11/Hat_Show_WEB_111025.png
END:VEVENT
BEGIN:VEVENT
DTSTART;TZID=UTC:20260111T100000
DTEND;TZID=UTC:20260111T120000
DTSTAMP:20260424T200240
CREATED:20250509T154050Z
LAST-MODIFIED:20260108T011436Z
UID:1487-1768125600-1768132800@www.unionbaptistwp.org
SUMMARY:Worship Service
DESCRIPTION:Worship with the UBC Family each and every Sunday at 10 AM EST\, in person or online.
URL:https://www.unionbaptistwp.org/event/worship-service/
LOCATION:UBC Worship Center Sanctuary
ATTACH;FMTTYPE=image/png:https://www.unionbaptistwp.org/wp-content/uploads/2025/05/UBC_Livestream_2026_REV1.png
END:VEVENT
BEGIN:VEVENT
DTSTART;TZID=UTC:20250624T170000
DTEND;TZID=UTC:20250624T190000
DTSTAMP:20260424T200240
CREATED:20250623T235935Z
LAST-MODIFIED:20250708T021456Z
UID:3059-1750784400-1750791600@www.unionbaptistwp.org
SUMMARY:Union Food For Life
DESCRIPTION:Feeding Westchester delivers nutritious food to communities across Westchester County\, reaching neighbors where the need is greatest.
URL:https://www.unionbaptistwp.org/event/union-food-for-life/
LOCATION:Deacon Grover Jones\, Sr. Fellowship Hall\, 31 Manhattan Avenue\, White Plains\, NY\, 10607\, United States
ATTACH;FMTTYPE=image/png:https://www.unionbaptistwp.org/wp-content/uploads/2025/06/69053255_10156628950373108_2165714263753097216_n.png
END:VEVENT
BEGIN:VEVENT
DTSTART;VALUE=DATE:20251212
DTEND;VALUE=DATE:20251213
DTSTAMP:20260424T200240
CREATED:20251103T221054Z
LAST-MODIFIED:20251105T153304Z
UID:3730-1765497600-1765583999@www.unionbaptistwp.org
SUMMARY:Music and Arts Ministry Winter Concert
DESCRIPTION:UBC’s Music and Arts Ministry is a hosting Winter Concert this holiday season! \n  \nMark your calendars for Friday\, December 12th at 6:00 PM for an evening of musical fellowship\, praise\, and worship featuring our choir\, youth choir\, band and praise team. \n  \nClick here to purchase your tickets!
URL:https://www.unionbaptistwp.org/event/music-and-arts-ministry-winter-concert/
LOCATION:UBC Worship Center Sanctuary
ATTACH;FMTTYPE=image/png:https://www.unionbaptistwp.org/wp-content/uploads/2025/11/UBC_Winter_Concert_WEB_110325-1.png
END:VEVENT
BEGIN:VEVENT
DTSTART;TZID=UTC:20260111T100000
DTEND;TZID=UTC:20260111T120000
DTSTAMP:20260424T200240
CREATED:20250509T154050Z
LAST-MODIFIED:20260108T011436Z
UID:1487-1768125600-1768132800@www.unionbaptistwp.org
SUMMARY:Worship Service
DESCRIPTION:Worship with the UBC Family each and every Sunday at 10 AM EST\, in person or online.
URL:https://www.unionbaptistwp.org/event/worship-service/
LOCATION:UBC Worship Center Sanctuary
ATTACH;FMTTYPE=image/png:https://www.unionbaptistwp.org/wp-content/uploads/2025/05/UBC_Livestream_2026_REV1.png
END:VEVENT
BEGIN:VEVENT
DTSTART;TZID=UTC:20250624T170000
DTEND;TZID=UTC:20250624T190000
DTSTAMP:20260424T200240
CREATED:20250623T235935Z
LAST-MODIFIED:20250708T021456Z
UID:3059-1750784400-1750791600@www.unionbaptistwp.org
SUMMARY:Union Food For Life
DESCRIPTION:Feeding Westchester delivers nutritious food to communities across Westchester County\, reaching neighbors where the need is greatest.
URL:https://www.unionbaptistwp.org/event/union-food-for-life/
LOCATION:Deacon Grover Jones\, Sr. Fellowship Hall\, 31 Manhattan Avenue\, White Plains\, NY\, 10607\, United States
ATTACH;FMTTYPE=image/png:https://www.unionbaptistwp.org/wp-content/uploads/2025/06/69053255_10156628950373108_2165714263753097216_n.png
END:VEVENT
BEGIN:VEVENT
DTSTART;TZID=UTC:20251220T123000
DTEND;TZID=UTC:20251220T153000
DTSTAMP:20260424T200240
CREATED:20251120T174543Z
LAST-MODIFIED:20251124T163205Z
UID:3768-1766233800-1766244600@www.unionbaptistwp.org
SUMMARY:Circle of Love Holiday Brunch
DESCRIPTION:UBC’s Circle of Love Ministry is partnering with TDYCC to host a holiday brunch!  \n  \nJoin our Christ-centered support group as we come together to help those who are grieving this holiday season. Featuring guest speaker\, Dr. Sharon K. Davis of the UBC Stephen Ministry. \n  \nCall 914.948.6439 to register; Attendees are asked to bring photos of their loved ones to be included on a memorial table.
URL:https://www.unionbaptistwp.org/event/circle-of-love-holiday-brunch/
LOCATION:Theodore D. Young Community Center\, 32 Manhattan Avenue\, White Plains\, NY\, 10607\, United States
ATTACH;FMTTYPE=image/png:https://www.unionbaptistwp.org/wp-content/uploads/2025/11/UBC_TDYCC_Brunch_WEB_112925-1.png
END:VEVENT
BEGIN:VEVENT
DTSTART;TZID=UTC:20260111T100000
DTEND;TZID=UTC:20260111T120000
DTSTAMP:20260424T200240
CREATED:20250509T154050Z
LAST-MODIFIED:20260108T011436Z
UID:1487-1768125600-1768132800@www.unionbaptistwp.org
SUMMARY:Worship Service
DESCRIPTION:Worship with the UBC Family each and every Sunday at 10 AM EST\, in person or online.
URL:https://www.unionbaptistwp.org/event/worship-service/
LOCATION:UBC Worship Center Sanctuary
ATTACH;FMTTYPE=image/png:https://www.unionbaptistwp.org/wp-content/uploads/2025/05/UBC_Livestream_2026_REV1.png
END:VEVENT
BEGIN:VEVENT
DTSTART;TZID=UTC:20250624T170000
DTEND;TZID=UTC:20250624T190000
DTSTAMP:20260424T200240
CREATED:20250623T235935Z
LAST-MODIFIED:20250708T021456Z
UID:3059-1750784400-1750791600@www.unionbaptistwp.org
SUMMARY:Union Food For Life
DESCRIPTION:Feeding Westchester delivers nutritious food to communities across Westchester County\, reaching neighbors where the need is greatest.
URL:https://www.unionbaptistwp.org/event/union-food-for-life/
LOCATION:Deacon Grover Jones\, Sr. Fellowship Hall\, 31 Manhattan Avenue\, White Plains\, NY\, 10607\, United States
ATTACH;FMTTYPE=image/png:https://www.unionbaptistwp.org/wp-content/uploads/2025/06/69053255_10156628950373108_2165714263753097216_n.png
END:VEVENT
BEGIN:VEVENT
DTSTART;VALUE=DATE:20251225
DTEND;VALUE=DATE:20251226
DTSTAMP:20260424T200240
CREATED:20251104T002252Z
LAST-MODIFIED:20251104T003231Z
UID:3736-1766620800-1766707199@www.unionbaptistwp.org
SUMMARY:Christmas Morning Service
DESCRIPTION:Celebrate the birth of Jesus Christ with UBC! Join us for our annual Christmas Morning Service in person and online on December 25th at 10 AM EST.
URL:https://www.unionbaptistwp.org/event/christmas-morning-service/
LOCATION:UBC Worship Center Sanctuary
ATTACH;FMTTYPE=image/png:https://www.unionbaptistwp.org/wp-content/uploads/2025/11/UBC_Christmas_122525.png
END:VEVENT
BEGIN:VEVENT
DTSTART;TZID=UTC:20260111T100000
DTEND;TZID=UTC:20260111T120000
DTSTAMP:20260424T200240
CREATED:20250509T154050Z
LAST-MODIFIED:20260108T011436Z
UID:1487-1768125600-1768132800@www.unionbaptistwp.org
SUMMARY:Worship Service
DESCRIPTION:Worship with the UBC Family each and every Sunday at 10 AM EST\, in person or online.
URL:https://www.unionbaptistwp.org/event/worship-service/
LOCATION:UBC Worship Center Sanctuary
ATTACH;FMTTYPE=image/png:https://www.unionbaptistwp.org/wp-content/uploads/2025/05/UBC_Livestream_2026_REV1.png
END:VEVENT
BEGIN:VEVENT
DTSTART;TZID=UTC:20251229T180000
DTEND;TZID=UTC:20251229T200000
DTSTAMP:20260424T200240
CREATED:20251120T175010Z
LAST-MODIFIED:20251120T175010Z
UID:3772-1767031200-1767038400@www.unionbaptistwp.org
SUMMARY:Kwanzaa Celebration
DESCRIPTION:
URL:https://www.unionbaptistwp.org/event/kwanzaa-celebration/
LOCATION:Deacon Grover Jones\, Sr. Fellowship Hall\, 31 Manhattan Avenue\, White Plains\, NY\, 10607\, United States
ATTACH;FMTTYPE=image/png:https://www.unionbaptistwp.org/wp-content/uploads/2025/11/UBC_Kwanzaa_WEB_111925.png
END:VEVENT
BEGIN:VEVENT
DTSTART;TZID=UTC:20250624T170000
DTEND;TZID=UTC:20250624T190000
DTSTAMP:20260424T200240
CREATED:20250623T235935Z
LAST-MODIFIED:20250708T021456Z
UID:3059-1750784400-1750791600@www.unionbaptistwp.org
SUMMARY:Union Food For Life
DESCRIPTION:Feeding Westchester delivers nutritious food to communities across Westchester County\, reaching neighbors where the need is greatest.
URL:https://www.unionbaptistwp.org/event/union-food-for-life/
LOCATION:Deacon Grover Jones\, Sr. Fellowship Hall\, 31 Manhattan Avenue\, White Plains\, NY\, 10607\, United States
ATTACH;FMTTYPE=image/png:https://www.unionbaptistwp.org/wp-content/uploads/2025/06/69053255_10156628950373108_2165714263753097216_n.png
END:VEVENT
BEGIN:VEVENT
DTSTART;VALUE=DATE:20251231
DTEND;VALUE=DATE:20260101
DTSTAMP:20260424T200240
CREATED:20251104T002604Z
LAST-MODIFIED:20251112T000615Z
UID:3739-1767139200-1767225599@www.unionbaptistwp.org
SUMMARY:Watch Night Service
DESCRIPTION:There is no better way to close out the year than with worship! Fellowship with UBC during our Watch Night Service on December 31st at 11:00 PM.
URL:https://www.unionbaptistwp.org/event/watch-night-service/
LOCATION:UBC Worship Center Sanctuary
ATTACH;FMTTYPE=image/png:https://www.unionbaptistwp.org/wp-content/uploads/2025/11/UBC_NYE_122525_REV1.png
END:VEVENT
END:VCALENDAR